BEGIN:VCALENDAR
VERSION:2.0
PRODID:-//Wilde Meyer Gallery | Scottsdale &amp; Tucson - ECPv5.14.1//NONSGML v1.0//EN
CALSCALE:GREGORIAN
METHOD:PUBLISH
X-WR-CALNAME:Wilde Meyer Gallery | Scottsdale &amp; Tucson
X-ORIGINAL-URL:https://wildemeyer.com
X-WR-CALDESC:Events for Wilde Meyer Gallery | Scottsdale &amp; Tucson
BEGIN:VTIMEZONE
TZID:America/Phoenix
BEGIN:STANDARD
TZOFFSETFROM:-0700
TZOFFSETTO:-0700
TZNAME:MST
DTSTART:20170101T000000
END:STANDARD
END:VTIMEZONE
BEGIN:VEVENT
DTSTART;VALUE=DATE:20170706
DTEND;VALUE=DATE:20170730
DTSTAMP:20260420T094631
CREATED:20170511T034435Z
LAST-MODIFIED:20170724T005744Z
UID:15936-1499299200-1501372799@wildemeyer.com
SUMMARY:100 for $100 Annual Charity Event
DESCRIPTION:Wilde Meyer Gallery\, 4142 N. Marshall Way\, Scottsdale\n480-945-2323 | info@wildemeyer.com \n  \nThe 100 for $100 show was a great success. \n  \nWe have a few great pieces left\, and we received a lot of new pieces that arrived too late to be in the original evite. All the pieces below are available on a first come first served basis. We hope you can find a great piece if you didn’t get any in the first round. \n  \n\n\n \nRobert Charon\n\n\n \nLisa Gordon\n\n\n \nRyan Hale\n\n\n \nMichael Swearngin\n\nThese are just a few of the wonderful pieces available.\nWatch for more late arrivals. Check back for them.\n\n\n\nYou need NOT be in the gallery to choose your favorite pieces. Please be sure to include the item number\, title and artist’s name for each piece for which you are placing an entry. When choosing through telephone or email\, please include your zip code for a shipping quote if you live out of town.
URL:https://wildemeyer.com/event/100-100-annual-charity-event-2017/
CATEGORIES:Scottsdale Gallery
END:VEVENT
END:VCALENDAR