BEGIN:VCALENDAR
VERSION:2.0
PRODID:-//Wilde Meyer Gallery | Scottsdale &amp; Tucson - ECPv5.14.1//NONSGML v1.0//EN
CALSCALE:GREGORIAN
METHOD:PUBLISH
X-WR-CALNAME:Wilde Meyer Gallery | Scottsdale &amp; Tucson
X-ORIGINAL-URL:https://wildemeyer.com
X-WR-CALDESC:Events for Wilde Meyer Gallery | Scottsdale &amp; Tucson
BEGIN:VTIMEZONE
TZID:America/Phoenix
BEGIN:STANDARD
TZOFFSETFROM:-0700
TZOFFSETTO:-0700
TZNAME:MST
DTSTART:20170101T000000
END:STANDARD
END:VTIMEZONE
BEGIN:VEVENT
DTSTART;VALUE=DATE:20171102
DTEND;VALUE=DATE:20171201
DTSTAMP:20260423T074012
CREATED:20170918T145940Z
LAST-MODIFIED:20171130T034801Z
UID:17920-1509580800-1512086399@wildemeyer.com
SUMMARY:Always Animals
DESCRIPTION:Wilde Meyer Annex\, 7100 Main Street\, Scottsdale\n480-947-1489 | info@wildemeyer.com \n ANNEX\n  \nOpening Reception: Thursday\, November 16th\, 7:00 – 9:00 PM\nOpening: November 2nd\, 2017\nClosing: December 2nd\, 2017 \n  \n\nAlways Animals. Work by Sara Newton\, Connie Townsend\, Andrea Peterson\, Chaille Trevor\, and more will be on display for this show. \nReception November 16\, 7:00 – 9:00. Multitalented artist Sara Newton will be painting on site. \n\n\n \nEvening 40″ x 30″\nSara Newton\n\n\n \nBaby Blue 11.5″ x 9.5″\nSara Newton\n\n\n \nBoy Rider 12″ x 12″\nSara Newton\n\n\n \nBaby Bear 11.5″ x 9.5″\nSara Newton\n\n\n\n \n\nPlease call or email for prices and more images.\n\n \nThe Muse 20″ x 24″\nConnie Townsend\n\n\n \nTequila Taxi 16″ x 20″\nTrevor Mikula\n\n\n \nPygmy Owl\n6″ x 4.5″ x 5″\nBarbara Duzan\n\n\n \nSounds of Life 30″ x 24″\nCathy Carey\n\n\n \nWhite Horse\n19.5″ x 16″\nAmanda Wilner\n\n\n \nBarb 24″ x 30″\nChaille Trevor\n\n\n \nWestern Horizon 7″ x 16″\nMaura Allen\n\n\n \nBest Seat in the House\n8″ x 8″\nTrevor Mikula\n\n\n \nRunning Down a Dream 48″ x 60″\nGreg Dye\n\n\n \nFemme Cheval II 60″ x 36″\nSherri Belassen\n\n\n \nBuckskin 29″ x 22″\nChaille Trevor\n\n\n \nSally the Donkey\n12″ x 12″\nSarah Webber\n\n\n \nLittle Big Heart 20″ x 24″\nConnie Townsend
URL:https://wildemeyer.com/event/always-animals/
CATEGORIES:Annex
END:VEVENT
END:VCALENDAR