BEGIN:VCALENDAR
VERSION:2.0
PRODID:-//Wilde Meyer Gallery | Scottsdale &amp; Tucson - ECPv5.14.1//NONSGML v1.0//EN
CALSCALE:GREGORIAN
METHOD:PUBLISH
X-WR-CALNAME:Wilde Meyer Gallery | Scottsdale &amp; Tucson
X-ORIGINAL-URL:https://wildemeyer.com
X-WR-CALDESC:Events for Wilde Meyer Gallery | Scottsdale &amp; Tucson
BEGIN:VTIMEZONE
TZID:America/Phoenix
BEGIN:STANDARD
TZOFFSETFROM:-0700
TZOFFSETTO:-0700
TZNAME:MST
DTSTART:20160101T000000
END:STANDARD
END:VTIMEZONE
BEGIN:VEVENT
DTSTART;VALUE=DATE:20160107
DTEND;VALUE=DATE:20160131
DTSTAMP:20260424T062500
CREATED:20151221T063018Z
LAST-MODIFIED:20160118T182805Z
UID:10269-1452124800-1454198399@wildemeyer.com
SUMMARY:Art to Acquire
DESCRIPTION:Wilde Meyer Gallery\, 4142 N. Marshall Way\, Scottsdale\n480-945-2323 | info@wildemeyer.com \nReception: January 28th\, 2016\, 7-9 PM\nOpening: January 7th\, 2016\nClosing: January 30th\, 2016 \n\nWILDE MEYER GALLERY will be presenting a group show in January 2016. On display will be some of the gallery’s most collectible artists including Linda Carter Holman\, Sherri Belassen\, Amy Watts\, and more. January 7th – 30th. Reception in conjunction with Annual Collector’s ArtWalk January 28\, from 7:00 – 9:00 PM. \n\n\n \nSurfer 36″ x 48″\nSherri Belassen\n\n\n \nBring the Buffalo 50″ x 50″\nJim Nelson\n\n\n \nFirst Snow 30″ x 40″\nCarol Spielman\n\n\n \nRed Rock 48″ x 48″\nMelissa Johnson\n\n\n \nA Quiet Spot 44″ x 34″\nLinda Carter Holman\n\n\n \nIlluminated World 48″ x 48″\nAndrea Peterson\n\n\n \nThe Bottle Baby 30″ x 40″\nAmy Watts\n\n\n \nFull Moon 24″ x 30″\nJaime Ellsworth
URL:https://wildemeyer.com/event/art-to-acquire/
CATEGORIES:Scottsdale Gallery
END:VEVENT
END:VCALENDAR