BEGIN:VCALENDAR
VERSION:2.0
PRODID:-//Wilde Meyer Gallery | Scottsdale &amp; Tucson - ECPv5.14.1//NONSGML v1.0//EN
CALSCALE:GREGORIAN
METHOD:PUBLISH
X-WR-CALNAME:Wilde Meyer Gallery | Scottsdale &amp; Tucson
X-ORIGINAL-URL:https://wildemeyer.com
X-WR-CALDESC:Events for Wilde Meyer Gallery | Scottsdale &amp; Tucson
BEGIN:VTIMEZONE
TZID:America/Phoenix
BEGIN:STANDARD
TZOFFSETFROM:-0700
TZOFFSETTO:-0700
TZNAME:MST
DTSTART:20160101T000000
END:STANDARD
END:VTIMEZONE
BEGIN:VEVENT
DTSTART;VALUE=DATE:20160804
DTEND;VALUE=DATE:20160828
DTSTAMP:20260423T163957
CREATED:20160610T135853Z
LAST-MODIFIED:20160612T210355Z
UID:11423-1470268800-1472342399@wildemeyer.com
SUMMARY:Attention to Detail
DESCRIPTION:Wilde Meyer Gallery\, 3001 E Skyline Dr\, Tucson\n520-615-5222 | info@wildemeyer.com\n \nOpening Reception: August 4th\, 5 – 7 PM\nOpening Reception: August 4th\, 5 – 7 PM\nClosing: August 27th\, 2016\n  \n\nSome artists use an economy of color\, strokes\, and composition\, while others pay great attention to detail work in their art. This show highlights art with detail. Sometimes paintings appear to be very simple\, but upon closer observation\, one can see that there is actually great detail. One such artist is Jeff Cochran\, whose landscapes\, upon initial view\, look very simple. In reality great attention has been paid to the details of placement of the paint upon the beautiful linen base he uses. In contrast\, Barbara Gurwitz paints complicated landscapes which look very detailed\, but in reality are very painterly. Other detail artists shown are Amy Watts\, Rachel Slick\, Fran Larsen\, Sushe Felix\, and more. \n\n\n \nMoon Rising 24″ x 30″\nBarbara Gurwitz\n\n\n \nTimber Wolf 25.5″ x 29.5″\nJames Swanson\n\n\n \nTaos Back Road in October\n38″ x 40″\nJeff Cochran\n\n\n\n \n\nPlease call or email for prices and more images.\n \nI Will Fly Away 41.5″ x 31.5″\nAmy Watts\n\n\n \nFlying Pig 20″ x 72″\nBill Colt\n\n\n \nLandscape 852 60″ x 48″\nAlbert Scharf\n\n\n \nBuzz Off  18″ x 24″\nJaime Ellsworth\n\n\n \nBeaded Bear\n8″ x 4.5″ x 4.5″\nBarbara Duzan\n\n\n \nPark Bench Ballerina 18″ x 24″\nAndrea Peterson\n\n\n \nThe Rain Crow\n14″ x 14″\nRachel Slick\n\n\n \nFamily Gathering 22″ x 30″\nPatricia Hunter\n\n\n \nInterior with Red Chair\n40″ x 30″\nJudy Feldman\n\n\n \nDesert Herd 49″ x 41″\nSushe Felix
URL:https://wildemeyer.com/event/attention-to-detail/
CATEGORIES:Tucson
END:VEVENT
END:VCALENDAR