BEGIN:VCALENDAR
VERSION:2.0
PRODID:-//Wilde Meyer Gallery | Scottsdale &amp; Tucson - ECPv5.14.1//NONSGML v1.0//EN
CALSCALE:GREGORIAN
METHOD:PUBLISH
X-WR-CALNAME:Wilde Meyer Gallery | Scottsdale &amp; Tucson
X-ORIGINAL-URL:https://wildemeyer.com
X-WR-CALDESC:Events for Wilde Meyer Gallery | Scottsdale &amp; Tucson
BEGIN:VTIMEZONE
TZID:America/Phoenix
BEGIN:STANDARD
TZOFFSETFROM:-0700
TZOFFSETTO:-0700
TZNAME:MST
DTSTART:20170101T000000
END:STANDARD
END:VTIMEZONE
BEGIN:VEVENT
DTSTART;VALUE=DATE:20170707
DTEND;VALUE=DATE:20170708
DTSTAMP:20260420T133349
CREATED:20170516T110224Z
LAST-MODIFIED:20170618T215655Z
UID:16190-1499385600-1499418000@wildemeyer.com
SUMMARY:Celebrate Summer
DESCRIPTION:Wilde Meyer Gallery\, 3001 E Skyline Dr\, Tucson\n520-615-5222 | info@wildemeyer.com\n \nReception: July 2nd\, 1:00 – 4:00 PM\nOpening: July 2nd\, 2017\nClosing: August 2nd\, 2017 \n  \n\nCelebrate July with art. Visit WILDE MEYER GALLERY – TUCSON to see a group show of celebratory art. Artists include: Kathy Rorie\, Cathy Carey\, Sherri Belassen\, AM Stockhill\, Sarah Webber\, Kari Rives\, Patrick Coffaro and ramore. \n\n \nGo Fish 30″ x 24″\nConnie Townsend\n\n\n \nThe Voice in the Twilight 35″ x 59″\nAM Stockhill\n\n\n \nThe Road to Seashell Mountains 36″ x 48″\nStephen Morath\n\n\n\n \n\nPlease call or email for prices and more images.\n\n \nBelinda the Black Bear\n11″ x 14″\nSarah Webber\n\n\n \nJust on the Edge 50″ x 60″\nPatrick Coffaro\n\n\n \nDos Abuelos 22.25 x 26.25\nPeggy McGivern\n\n\n \nBad Company 30″ x 36″\nGreg Dye\n\n\n \nTimeline 8″ x 96″\nRyan Hale\n\n\n \nCalypso 49.5″ x 54.5″\nChristina Ramirez\n\n\n \nRanch Entrance\, Taos\n15″ x 18″\nJeff Cochran\n\n\n \nWhat a Beuatiful Existence 60″ x 48″\nTracey Waldroup\n\n\n \nAcoma 50″ x 50″\nJack Roberts
URL:https://wildemeyer.com/event/celebrate-summer-tucson/
CATEGORIES:Tucson
END:VEVENT
END:VCALENDAR