BEGIN:VCALENDAR
VERSION:2.0
PRODID:-//Wilde Meyer Gallery | Scottsdale &amp; Tucson - ECPv5.14.1//NONSGML v1.0//EN
CALSCALE:GREGORIAN
METHOD:PUBLISH
X-WR-CALNAME:Wilde Meyer Gallery | Scottsdale &amp; Tucson
X-ORIGINAL-URL:https://wildemeyer.com
X-WR-CALDESC:Events for Wilde Meyer Gallery | Scottsdale &amp; Tucson
BEGIN:VTIMEZONE
TZID:America/Phoenix
BEGIN:STANDARD
TZOFFSETFROM:-0700
TZOFFSETTO:-0700
TZNAME:MST
DTSTART:20160101T000000
END:STANDARD
END:VTIMEZONE
BEGIN:VEVENT
DTSTART;VALUE=DATE:20160804
DTEND;VALUE=DATE:20160829
DTSTAMP:20260423T182612
CREATED:20160526T192445Z
LAST-MODIFIED:20160526T225431Z
UID:11422-1470268800-1472428799@wildemeyer.com
SUMMARY:Color Speaks
DESCRIPTION:Wilde Meyer Annex\, 7100 Main Street\, Scottsdale\, AZ 85251\n480-947-1489 | info@wildemeyer.com\n  \nOpening Reception: August 4th\, 7:00 – 9:00 PM\nOpening Reception: August 4th\, 2016\nClosing: August 27th\, 2016 \n\n \nWILDE MEYER GALLERY is well known for its colorful eclectic art presentations. Even though WILDE MEYER ANNEX specializes in animal related art\, these pieces can be in splendid color also. This show presents animals in imaginative hues to downright conjured up hues. Some of the artists showing\, like Theresa Paden\, portray close up images of realistically proportioned animals in outrageous colors. Other artists\, like Jaime Ellsworth\, add the real punch of color through complicated compositions. Greg Dye uses gigantic slashes of vibrant color to create iconic bison. Other artists use traditionally painted subjects surrounded by color. \n\n\n \nDog Objects 19.3″ x 34″\nMelinda D. Curtin\n\n\n \nSheep 8″ x 8″\nLeslie Anne Webb\n\n\n \nMajestic Bison 24″ x 24″\nTheresa Paden\n\n\n \nPuppy Love 10″ x 10″\nTrevor Mikula\n\n\n\n \n\nPlease call or email for prices and more images.\n\n\n \nConvergence 36″ x 48″\nTimothy Chapman\n\n\n \nAlabaster II 40″ x 30″\nRon Russon\n\n\n \nHappy Place 8″ x 10″\nSushe Felix\n\n\n \nSummer Camoflage\n20″ x 13″ x 16″\nBarbara Duzan\n\n\n \nUnder An Orange Sky 30″ x 24″\nConnie Townsend\n\n\n \nHorse 1 14″ x 14″\nDebora Stewart\n\n\n \nCoyote 30″ x 30″\nJill Gilbert\n\n\n \nVaquero\nAmy Watts\n\n\n \nDreamer 24″ x 30″\nDana Hooper\n\n\n \nFirst Kiss  12.25″ x 12.25″\nPatricia Hunter
URL:https://wildemeyer.com/event/color-speaks-2016/
CATEGORIES:Annex
END:VEVENT
END:VCALENDAR