BEGIN:VCALENDAR
VERSION:2.0
PRODID:-//Wilde Meyer Gallery | Scottsdale &amp; Tucson - ECPv5.14.1//NONSGML v1.0//EN
CALSCALE:GREGORIAN
METHOD:PUBLISH
X-WR-CALNAME:Wilde Meyer Gallery | Scottsdale &amp; Tucson
X-ORIGINAL-URL:https://wildemeyer.com
X-WR-CALDESC:Events for Wilde Meyer Gallery | Scottsdale &amp; Tucson
BEGIN:VTIMEZONE
TZID:America/Phoenix
BEGIN:STANDARD
TZOFFSETFROM:-0700
TZOFFSETTO:-0700
TZNAME:MST
DTSTART:20160101T000000
END:STANDARD
END:VTIMEZONE
BEGIN:VEVENT
DTSTART;VALUE=DATE:20161106
DTEND;VALUE=DATE:20161201
DTSTAMP:20260424T080002
CREATED:20160903T215218Z
LAST-MODIFIED:20160917T012936Z
UID:12268-1478390400-1480550399@wildemeyer.com
SUMMARY:Group Show
DESCRIPTION:Wilde Meyer Gallery\, 3001 E Skyline Dr\, Tucson\n520-615-5222 | info@wildemeyer.com\n \nOpening Reception: November 6th\, 5:00 – 7:00 PM\nOpening: November 6th\, 2016\nClosing: November 30th\, 2016 \n\n \nTucson Group Show including Brenda Bredvik\, Robert Burt\, Patrick Coffaro\, Jack Roberts\, and more. \n\n \nBeauty Warrior 48″ x 36″\nLance Green\n\n\n \nAcoma 50″ x 50″\nJack Roberts\n\n \nDaybreak 48″ x 48″\nBrenda Bredvik\n\n\n\n \n\nPlease call or email for prices and more images.\n\n \nDesert Glow 24″ x 24″\nGreg Dye\n\n\n \nThe Wow Factor 18″ x 26″\nPatrick Coffaro\n\n\n \nElders 12″ x 48″\nDiane F Barbee\n\n\n \nMothers 28″ x 22″\nChaille Trevor\n\n\n \nLandscape #897 36″ x 48″\nAlbert Scharf\n\n\n \nThief of Hearts 36″ x 24″\nJaime Ellsworth\n\n \nGreen Car 16″ x 20″\nRobert Burt
URL:https://wildemeyer.com/event/group-show-november-2016/
CATEGORIES:Tucson
END:VEVENT
END:VCALENDAR