BEGIN:VCALENDAR
VERSION:2.0
PRODID:-//Wilde Meyer Gallery | Scottsdale &amp; Tucson - ECPv5.14.1//NONSGML v1.0//EN
CALSCALE:GREGORIAN
METHOD:PUBLISH
X-WR-CALNAME:Wilde Meyer Gallery | Scottsdale &amp; Tucson
X-ORIGINAL-URL:https://wildemeyer.com
X-WR-CALDESC:Events for Wilde Meyer Gallery | Scottsdale &amp; Tucson
BEGIN:VTIMEZONE
TZID:America/Phoenix
BEGIN:STANDARD
TZOFFSETFROM:-0700
TZOFFSETTO:-0700
TZNAME:MST
DTSTART:20160101T000000
END:STANDARD
END:VTIMEZONE
BEGIN:VEVENT
DTSTART;VALUE=DATE:20161006
DTEND;VALUE=DATE:20161107
DTSTAMP:20260423T234837
CREATED:20160816T153736Z
LAST-MODIFIED:20160926T193743Z
UID:12160-1475712000-1478476799@wildemeyer.com
SUMMARY:Group Show
DESCRIPTION:Wilde Meyer Gallery\, 3001 E Skyline Dr\, Tucson\n520-615-5222 | info@wildemeyer.com\n \nOpening Reception: October 2nd\, 5:00 – 7:00 PM\nOpening: October 2nd\, 2016\nClosing: November 2nd\, 2016\n  \n\nWILDE MEYER – TUCSON will feature a group show including landscapes and figurative works. Artists include Michael Swearngin\, Theresa Paden\, Judy Choate\, and more. \n\n\n \nWild Horse Moon Glow 72″ x 84″\nMichael Swearngin\n\n\n \nSouth By Southwest 24″ x 48″\nBill Colt\n\n\n \nLight Thru the Clouds 60″ x 84″\nJeff Cochran
URL:https://wildemeyer.com/event/group-show-october-2016-tucson/
CATEGORIES:Tucson
END:VEVENT
END:VCALENDAR