BEGIN:VCALENDAR
VERSION:2.0
PRODID:-//Wilde Meyer Gallery | Scottsdale &amp; Tucson - ECPv5.14.1//NONSGML v1.0//EN
CALSCALE:GREGORIAN
METHOD:PUBLISH
X-WR-CALNAME:Wilde Meyer Gallery | Scottsdale &amp; Tucson
X-ORIGINAL-URL:https://wildemeyer.com
X-WR-CALDESC:Events for Wilde Meyer Gallery | Scottsdale &amp; Tucson
BEGIN:VTIMEZONE
TZID:America/Phoenix
BEGIN:STANDARD
TZOFFSETFROM:-0700
TZOFFSETTO:-0700
TZNAME:MST
DTSTART:20160101T000000
END:STANDARD
END:VTIMEZONE
BEGIN:VEVENT
DTSTART;VALUE=DATE:20161006
DTEND;VALUE=DATE:20161027
DTSTAMP:20260423T220602
CREATED:20160805T193844Z
LAST-MODIFIED:20160807T000313Z
UID:12076-1475712000-1477526399@wildemeyer.com
SUMMARY:A Horse is a Horse Unless...
DESCRIPTION:…it is transformed into an abstract painting\, or a doorknocker.\n \nWilde Meyer Annex\, 7100 Main Street\, Scottsdale\, AZ 85251\n480-947-1489 | info@wildemeyer.com\n \nOpening Reception: October 6th\, 7:00 – 9:00 PM\nOpening: October 6th\, 2016\nClosing: October 29th\, 2016\n \nThis show highlights equine images that go beyond traditional equine renderings. Sherri Belassen transforms horse figures into blocks of color and detail that say “horse”\, but is in reality an abstract painting. Karen Bezuidenhout shows the equine figures as basic forms\, with almost no detail. Amy Watts’ narrative paintings require the viewer pick out the horse from a myriad of puzzle-like color forms. Theresa Paden assigns outrageous hues to her beautifully rendered horses. Leslie Anne Webb presents humor in the shenanigans of her equines. Other artists showing include Chaille Trevor\, Andrea Peterson and more. Also showing animal art by Trevor Mikula and Connie Townsend. \n\n\n\n \nSweat of Thy Brow 74″ x 50″ x 20″\nRand Smith\n\n\n \nBlue Rain 24″ x 36″\nTheresa Paden\n\n\n \nBlaze 48″ x 48″\nJaime Ellsworth\n\n\n\n \n\nPlease call or email for prices and more images.\n\n \nEagle Horse  60″ x 60″\nJim Nelson\n\n\n \nCaballo Door Knocker \n16″ x 5″ x 7″\nCarol Ruff Franza\n\n\n \nFruits of the Spirit 24″ x 30″\nAmy Watts\n\n\n \nThe Face of Love 60″ x 36″\nLeslie Ann Webb\n\n\n \nEmbers of Truth 48″ x 42″\nAM Stockhill\n\n\n \nBlanket Statement\n8″ x 10″ x 4″\nLisa M. Gordon\n\n\n \nStanding Horse 30″ x 40″\nRon Russon\n\nAlso Showing:\n\n \nHmmm\, I See 10″ x 10″\nTrevor Mikula\n\n\n \nGreen Acres 24″ x 24″\nTrevor Mikula\n\n\n \nTruffles 6″ x 6″\nTrevor Mikula\n\n\n \nI’m Ready\nto Sweep the Floor\n12″ x 9″\nTrevor Mikula
URL:https://wildemeyer.com/event/horse-horse-unless/
CATEGORIES:Annex
END:VEVENT
END:VCALENDAR