BEGIN:VCALENDAR
VERSION:2.0
PRODID:-//Wilde Meyer Gallery | Scottsdale &amp; Tucson - ECPv5.14.1//NONSGML v1.0//EN
CALSCALE:GREGORIAN
METHOD:PUBLISH
X-WR-CALNAME:Wilde Meyer Gallery | Scottsdale &amp; Tucson
X-ORIGINAL-URL:https://wildemeyer.com
X-WR-CALDESC:Events for Wilde Meyer Gallery | Scottsdale &amp; Tucson
BEGIN:VTIMEZONE
TZID:America/Phoenix
BEGIN:STANDARD
TZOFFSETFROM:-0700
TZOFFSETTO:-0700
TZNAME:MST
DTSTART:20160101T000000
END:STANDARD
END:VTIMEZONE
BEGIN:VEVENT
DTSTART;VALUE=DATE:20160107
DTEND;VALUE=DATE:20160131
DTSTAMP:20260424T031210
CREATED:20151223T145431Z
LAST-MODIFIED:20151223T145431Z
UID:10284-1452124800-1454198399@wildemeyer.com
SUMMARY:Imagine That
DESCRIPTION:Wilde Meyer Annex\, 7100 Main Street\, Scottsdale\, AZ 85251\n480-947-1489 | info@wildemeyer.com \nReception: January 28th\, 2016\, 7-9 PM\nOpening: January 7th\, 2016\nClosing: January 30th\, 2016 \n\nIn conjunction with Collector’s ArtWalk\, WILDE MEYER ANNEX will be presenting some of their most collected and imaginative artists’ works. Included in the show are: Stephen Morath\, Chaille Trevor\, Debora Stewart\, Ron Russon\, and several other artists. \n\n \n \nSunset at the Arizona Line  42″ x 56″\nStephen Morath\n\n \nThe Procession \n36″ x 24″\nChaille Trevor\n\n \nRegeneration 54″ x 48″\nDebora Stewart\n\n \nRed Blanket 48″ x 48″\nBrenda Bredvik\n\n \nSunlit Bison 16″ x 20″\nRon Russon\n\n \nVallarde\, New Mexico 46″ x 46″\nJeff Cochran\n\n \nTimes Square 34″ x 40″\nJacqueline Rochester\n\n \nCoffee Buzz 43″ x 34″\nMelinda Hall
URL:https://wildemeyer.com/event/imagine-that/
CATEGORIES:Annex
END:VEVENT
END:VCALENDAR