BEGIN:VCALENDAR
VERSION:2.0
PRODID:-//Wilde Meyer Gallery | Scottsdale &amp; Tucson - ECPv5.14.1//NONSGML v1.0//EN
CALSCALE:GREGORIAN
METHOD:PUBLISH
X-WR-CALNAME:Wilde Meyer Gallery | Scottsdale &amp; Tucson
X-ORIGINAL-URL:https://wildemeyer.com
X-WR-CALDESC:Events for Wilde Meyer Gallery | Scottsdale &amp; Tucson
BEGIN:VTIMEZONE
TZID:America/Phoenix
BEGIN:STANDARD
TZOFFSETFROM:-0700
TZOFFSETTO:-0700
TZNAME:MST
DTSTART:20160101T000000
END:STANDARD
END:VTIMEZONE
BEGIN:VEVENT
DTSTART;VALUE=DATE:20160407
DTEND;VALUE=DATE:20160501
DTSTAMP:20260423T181147
CREATED:20160207T025341Z
LAST-MODIFIED:20160405T061830Z
UID:10762-1459987200-1462060799@wildemeyer.com
SUMMARY:Las Tres Damas
DESCRIPTION:Wilde Meyer Gallery\, 4142 N. Marshall Way\, Scottsdale\n480-945-2323 | info@wildemeyer.com \nOpening Reception: April 7th\, 7:00-9:00 PM\nOpening: April 7th\, 2016\nClosing: April 30th\, 2016 \n\nFor many years\, WILDE MEYER GALLERY has represented three especially talented artists: Sherri Belassen\, Karen Bezuidenhout\, and Ka Fisher. Their new work will be presented at an opening reception on April 7\, 2016. Please join us for this anticipated show. \n\n\n \nShine 36″ x 60″\nSherri Belassen\n\n\n \nSinging Bird in Tree  60″ x 48″\nKaren Bezuidenhout\n\n\n \nMeandering 48 ” x 60″\nKa Fisher\n\n\nPlease call or email for prices and more images.\n\n\n \n\n \nCactus Scape 36″ x 96″\nSherri Belassen\n\n\n \nThree Wild Horses 48″ x 48″\nKaren Bezuidenhout\n\n\n \nAiring Out 64″ x 84″\nKa Fisher\n\n\n \nWings I 24″ x 24″\nSherri Belassen\n\n\n \nBilly Blue Hat Sings 48″ x 60″\nKa Fisher\n\n\n \nBrama Drama 48″ x 48″\nSherri Belassen\n\n\n \nIndian with black horse 60″ x 48″\nKaren Bezuidenhout\n\n\n \nMan and Horse 48″ x 60″\nKaren Bezuidenhout\n\n\n \nThe Almost Hemingway Cat 60″ x 72″\nKa Fisher\n\n\n \nDesert Cheval 60″ x 36″\nSherri Belassen\n\n\n \nWar Horse II\n11.75″ x 11″ x 6.5″\nKa Fisher\n\n\n \nInfinity Ranchero 72″ x 60″\nSherri Belassen\n\n\n \nBlue Pommegranite  48″ x 48″\nKaren Bezuidenhout\n\n\n \nCarousel Horse Fantasy 48″ x 48″\nKa Fisher
URL:https://wildemeyer.com/event/las-tres-damas/
CATEGORIES:Scottsdale Gallery
END:VEVENT
END:VCALENDAR