BEGIN:VCALENDAR
VERSION:2.0
PRODID:-//Wilde Meyer Gallery | Scottsdale &amp; Tucson - ECPv5.14.1//NONSGML v1.0//EN
CALSCALE:GREGORIAN
METHOD:PUBLISH
X-WR-CALNAME:Wilde Meyer Gallery | Scottsdale &amp; Tucson
X-ORIGINAL-URL:https://wildemeyer.com
X-WR-CALDESC:Events for Wilde Meyer Gallery | Scottsdale &amp; Tucson
BEGIN:VTIMEZONE
TZID:America/Phoenix
BEGIN:STANDARD
TZOFFSETFROM:-0700
TZOFFSETTO:-0700
TZNAME:MST
DTSTART:20160101T000000
END:STANDARD
END:VTIMEZONE
BEGIN:VEVENT
DTSTART;VALUE=DATE:20161201
DTEND;VALUE=DATE:20170113
DTSTAMP:20260424T162032
CREATED:20161127T054155Z
LAST-MODIFIED:20170107T042651Z
UID:13046-1480550400-1484265599@wildemeyer.com
SUMMARY:Linda Carter Holman Holiday Prints
DESCRIPTION:Joyeux Noel\n\nLinda Carter Holman’s\nlimited edition Holiday prints\nAvailable at all\nWilde Meyer locations.\n\n \nA Christmas Tale\n\n \nThree Kings\n\n\n$45.00 unframed. $195.00 framed.\nPlus tax or shipping. \n480-945-2323 | info@wildemeyer.com
URL:https://wildemeyer.com/event/linda-carter-holman-holiday-prints-2016/
END:VEVENT
END:VCALENDAR