BEGIN:VCALENDAR
VERSION:2.0
PRODID:-//Wilde Meyer Gallery | Scottsdale &amp; Tucson - ECPv5.14.1//NONSGML v1.0//EN
CALSCALE:GREGORIAN
METHOD:PUBLISH
X-WR-CALNAME:Wilde Meyer Gallery | Scottsdale &amp; Tucson
X-ORIGINAL-URL:https://wildemeyer.com
X-WR-CALDESC:Events for Wilde Meyer Gallery | Scottsdale &amp; Tucson
BEGIN:VTIMEZONE
TZID:America/Phoenix
BEGIN:STANDARD
TZOFFSETFROM:-0700
TZOFFSETTO:-0700
TZNAME:MST
DTSTART:20160101T000000
END:STANDARD
END:VTIMEZONE
BEGIN:VEVENT
DTSTART;VALUE=DATE:20160804
DTEND;VALUE=DATE:20160828
DTSTAMP:20260423T145419
CREATED:20160526T185216Z
LAST-MODIFIED:20160717T200223Z
UID:11554-1470268800-1472342399@wildemeyer.com
SUMMARY:Living the Western Dream
DESCRIPTION:Wilde Meyer Gallery\, 4142 N. Marshall Way\, Scottsdale\n480-945-2323 | info@wildemeyer.com\n \nOpening Reception: August 4th\, 7:00-9:00 PM\nOpening: August 4th\, 2016\nClosing: August 27th\, 2016 \n\n \nA group show with artists presenting everything from realistic interpretations of western landscapes to stylized interpretations of iconic western images. Charles Davison’s unique mixed media pieces are influenced by folk and native American art. Amy Watts takes western imagery to a whole new level with complicated paintings which narrate a whole story. \n\n\n \nBig Pink 41″ x 54″\nStephen Morath\n\n\n \nBlue Mountain Sunrise 17″ x 19″\nFran Larsen\n\n\n \nFruits of the Spirit 24″ x 30″\nAmy Watts\n\n\n\n \n\nPlease call or email for prices and more images.\n \nDog Up 36″ x 36″\nConnie Townsend\n\n\n \nDesert Valley Twilight 41″ x 41″\nSushe Felix\n\n\n \nThe Clanton Gang Crossing Allen St.\n18″ x 18″\nThom Ross\n\n\n \nWhite Horse 19.5″ x 16″\nAmanda Wilner\n\n \nGrizzly with Turqoiuse 40″ x 30″\nRon Russon\n\n\n \nShe Brings the First Light\n24.75″ x 25.5″\nJim Nelson\n\n\n \nPost 48″ x 48″\nMelissa Johnson\n\n\n \nHungry Baby Calf\n14″ x 16″\nSarah Webber\n\n\n \nJoe and Charlie 36″ x 24″\nPaul Sheldon\n\n\n \nThe Trackers\n22″ x 26″\nJames Swanson
URL:https://wildemeyer.com/event/living-western-dream-2/
CATEGORIES:Scottsdale Gallery
END:VEVENT
END:VCALENDAR