BEGIN:VCALENDAR
VERSION:2.0
PRODID:-//Wilde Meyer Gallery | Scottsdale &amp; Tucson - ECPv5.14.1//NONSGML v1.0//EN
CALSCALE:GREGORIAN
METHOD:PUBLISH
X-WR-CALNAME:Wilde Meyer Gallery | Scottsdale &amp; Tucson
X-ORIGINAL-URL:https://wildemeyer.com
X-WR-CALDESC:Events for Wilde Meyer Gallery | Scottsdale &amp; Tucson
BEGIN:VTIMEZONE
TZID:America/Phoenix
BEGIN:STANDARD
TZOFFSETFROM:-0700
TZOFFSETTO:-0700
TZNAME:MST
DTSTART:20190101T000000
END:STANDARD
END:VTIMEZONE
BEGIN:VEVENT
DTSTART;VALUE=DATE:20190402
DTEND;VALUE=DATE:20190429
DTSTAMP:20260423T074910
CREATED:20190331T230753Z
LAST-MODIFIED:20190428T181052Z
UID:26418-1554163200-1556495999@wildemeyer.com
SUMMARY:New Arivals - April 2019
DESCRIPTION:Exciting New Arrivals –\nHere are a few of the exceptional new pieces we have received. \n\n\n \nLittle Stories 48.75″ x 60″\nKa Fisher\n\n\n \nAutumn Muse 36″ x 24″\nLance Green\n\n\n \nDude Ranch 20″ x 24″\nJaime Ellsworth\n\n\n \nXtreme Fetch 60″ x 48″\nConnie Townsend\n\n\n \nAfrican Queen 21″ x 20″ x 8″\nBarbara Duzan\n\n\n \nEarth Santo 20″ x 16″\nLance Green\n\n\n \nStation Wagon Saguaro Sunday\n60″ x 20″\nTrevor Mikula\n\n\n \nEvery Day is Donkey Day 18″ x 36″\nSarah Webber\n\n\n \nSmall Buffalo 7″ x 11″ x 5.75″\nJess Davila\n\n\n \nRed 36″ x 36″\nJaime Ellsworth\n\n\n\n \nPlease call or email for prices and more images\,\nor visit  artist pages\n\n\n \nNavajo Maiden 47″ x 28″\nDoug Weigel\n\n\n \nSlow Dancing Home II 48″ x 60\nKa Fisher\n\n\n\n\n\nBalancing Act (left)\nRecall the Day (center)\nJavelina Snack’n (right)\nLinda Carter Holman\n\n\n \nRay of Light in the Pasture 54″ x 68″\nJeff Cochran\n\n\n \nSaguaro Study\n7″ x 5″\nRyan Hale\n\n\n \nThe Big Straight and Narrow\n68″ x 60″ x 18″\nLisa M. Gordon\n\n\n \nSild Ribbons 24″ x 48″\nJudy Choate\n\n\n \nFully Charged 2  36″ x 36″\nConnie Townsend\n\n\n \nThe Young and the Restless 30″ x 40″\nSarah Webber\n\n\n \nKodachrome Flats\n54″ x 30″ x 16″\nKen Kasten\n\n\n \nNobility 14″ x 11″\nChaille Trevor\n\n\n \nSpace Odyssey \nAdriana Walker\n\n\n \nNature Fragments 5 46″ x 46″\nDebora Stewart\n\n\n \nNine More Rows Before Dark 36″ x 36″\nPeggy McGivern\n\n\n \nYellow Woman Calls the Buffalo 36″ x 36″\nJim Nelson\n\n\n \nTouching Earth 11″ x 14″\nLinda Carter Holman\n\n\n \nDog\nPatricia Hunter\n\n\n \nAfter the Rain III 24″ x 36″\nTierney M. Miller\n\n\n \nDancing Yellow 36″ x 48″\nRon Russon\n\n\n \nFoal in Boots\n3.5″ x 3″ x 1.5″\nLisa M. Gordon\n\n\n \nBlanche 48″ x 48″\nTierney M. Miller\n\n\n \nSoul Mates\nChaille Trevor\n\n\n \nGreen tiger Rolling In Flowers\n25-1/2″ x 37-1/2″\nRachel Slick\n\n\n \nMesa Mesa 40″ x 30″\nSherri Belassen\n\n\n \nPink Tutu 7″ x 6″ x 4″\nLisa M. Gordon\n\n\n \nGathering \nKari Rives\n\n\n \nSlippery Slope 31.5″ x 31.5″\nCharles Davison\n\n\n \nWyoming Wildman\n48″ x 33″\nDoug Weigel\n\n\n \nMoonstruck 12″ x 36″\nJaime Ellsworth\n\n\n \nWakatobi IV 60″ x 80\nTierney M. Miller\n\n\n \nMilkbone 18″ x 18″\nJaime Ellsworth
URL:https://wildemeyer.com/event/new-arivals-april-2019/
CATEGORIES:New Arrivals
END:VEVENT
END:VCALENDAR