BEGIN:VCALENDAR
VERSION:2.0
PRODID:-//Wilde Meyer Gallery | Scottsdale &amp; Tucson - ECPv5.14.1//NONSGML v1.0//EN
CALSCALE:GREGORIAN
METHOD:PUBLISH
X-WR-CALNAME:Wilde Meyer Gallery | Scottsdale &amp; Tucson
X-ORIGINAL-URL:https://wildemeyer.com
X-WR-CALDESC:Events for Wilde Meyer Gallery | Scottsdale &amp; Tucson
BEGIN:VTIMEZONE
TZID:America/Phoenix
BEGIN:STANDARD
TZOFFSETFROM:-0700
TZOFFSETTO:-0700
TZNAME:MST
DTSTART:20160101T000000
END:STANDARD
END:VTIMEZONE
BEGIN:VEVENT
DTSTART;VALUE=DATE:20161204
DTEND;VALUE=DATE:20170101
DTSTAMP:20260424T200720
CREATED:20161204T155713Z
LAST-MODIFIED:20161206T015444Z
UID:13222-1480809600-1483228799@wildemeyer.com
SUMMARY:New Arrivals
DESCRIPTION:Other New Arrivals and Introducing our wonderful new artist Peggy McGivern \n\n\n \nDance 60″ x 48″\nMonika Rossa\n\n\n \nJackson Pond 24″ x 48″\nPeggy McGivern\n\n\n \nAspens 41.5″ x 51.5″\nThom Ross\n\n\n\n \n\n\n \nTiara 23.25″ x 23.25″\nPeggy McGivern\n\n\n \nEmpire of the Sun 48″ x 48″\nGreg Dye\n\n\n \nDos Abuelos 22.25 x 26.25\nPeggy McGivern\n\n \nNovember 24″ x 24″\nPeggy McGivern\n\n\n \nSuch Good Friends 52″ x 52″\nJacqueline Rochester\n\n\n \nMysterious Stranger36″ x 36″\nGreg Dye\n\n\n \nHorse on Patchwork Plateau\n29″ x 18″\nMelinda D. Curtin\n\n \nCharge on the Arikara River 31.5″ x 41.5″\nThom Ross\n\n\n \nA Walk in the Park 24″ x 24″\nPeggy McGivern\n\n\n \nSuper Nova 30″ x 36″\nGreg Dye\n\n\n \nGolden River 43″ x 43″\nPeggy McGivern\n\n\n \nMaverick 26.5″ x 26.5″\nPeggy McGivern\n\n\n \nSunset Bather 60″ x 40″\nSherri Belassen\n\n\n \nFields of Blue 37.5″ x 37.5″\nJeff Cochran\n\n\n \nA Riding Man 54″ x 54″\nMichael Swearngin\n\n\n \nThe Gunfighter 59″ x 45″\nThom Ross\n\n\n \nJoseph 40″ x 30″\nStephano\n\n\n \nYuri 20″ x 12″ x 13″\nKari Rives\n\n\n \nJust Us Donkeys 12″ x 24″\nSarah Webber\n\n\n \nHigh-Road 48″ x 48″\nMelissa Johnson\n\n\n \nChief of the Wizzards\n21″ x 16.5″\nJim Nelson\n\n\n \nGo Time 60″ x 48″\nConnie Townsend\n\n\n \nLandscape #710\n48″ x 24″\nAlbert Scharf\n\n\n \nPattern Anamaoly from the Kundu Province\n36″ x 48″\nTimothy Chapman\n\n\n \nDesert\, Moon\, and Stars\n38″ x 28″\nFran Larsen\n\n\n \nCat Nap\nAdriana Walker\n\nPlease call or email for prices and more images.
URL:https://wildemeyer.com/event/new-arrivals-december-2016/
CATEGORIES:New Arrivals
END:VEVENT
END:VCALENDAR