BEGIN:VCALENDAR
VERSION:2.0
PRODID:-//Wilde Meyer Gallery | Scottsdale &amp; Tucson - ECPv5.14.1//NONSGML v1.0//EN
CALSCALE:GREGORIAN
METHOD:PUBLISH
X-WR-CALNAME:Wilde Meyer Gallery | Scottsdale &amp; Tucson
X-ORIGINAL-URL:https://wildemeyer.com
X-WR-CALDESC:Events for Wilde Meyer Gallery | Scottsdale &amp; Tucson
BEGIN:VTIMEZONE
TZID:America/Phoenix
BEGIN:STANDARD
TZOFFSETFROM:-0700
TZOFFSETTO:-0700
TZNAME:MST
DTSTART:20180101T000000
END:STANDARD
END:VTIMEZONE
BEGIN:VEVENT
DTSTART;VALUE=DATE:20181201
DTEND;VALUE=DATE:20190101
DTSTAMP:20260423T103601
CREATED:20181208T033526Z
LAST-MODIFIED:20190827T204110Z
UID:24722-1543622400-1546300799@wildemeyer.com
SUMMARY:New Arrivals December 2018
DESCRIPTION:Powder I 30″ x 40″\nSherri Belassen\n\n\n \nSky Ribbons 24″ x 48″\nJudy Choate\n\n\n \nArroyo Arizona 50″ x 70″\nJack Roberts\n\n\n \nAmigos 12″ x 10″\nCharles Davison\n\n \nFern and her Boyfriend  24″ x 30″\nSarah Webber\n\n \nThe Solar System 24″ x 48″\nTimothy Chapman\n\n\n \nOcean Scapes\nAdriana Walker\n\n \nCloudlayer (diptych)\n48″ x 24″ (24″ x 24″ each)\nRyan Hale\n\n\n \nMasquerade 48″ x 48″\nAndrea Peterson\n\n\n \nBig Chow 30″ x 30″\nConnie Townsend\n\n\n \nNatives 24″ x 48″\nBill Colt\n\n\n\n \n\nPlease call or email for prices and more images.\n\n \nUnrelenting 36″ x 36″\nMelissa Johnson\n\n\n \nCozytime 4″ x 6″\nTrevor Mikula\n\n\n \nShopping Trip 8″ x 8″\nTrevor Mikula\n\n\n \nPurple Pig 6″ x 8″\nTrevor Mikula\n\n\n \nPetroglyph Circle 57″ diameter\nDoug Weigel\n\n\n \nWinter’s Evening Glow 8″ x 24″\nJudy Choate\n\n\n \nCave 14″ x 11″\nSara Newton\n\n \nWet Noses Warm Hearts\nSarah Webber\n\n\n \nAround the Bend 19.75″ x 59″\nCharles Davison\n\n\n \nComposition with Grey and Blue at Thomaston\n57.5″ x 46.5″\nJulie Schumer\n\n\n \nOstricha! 8″ x 4″\nTrevor Mikula\n\n\n \nCasablanca II 36″ x 60″\nSherri Belassen\n\n\n \nWindy Sunset 48″ x 24″\nJudy Choate\n\n\n \nMysterious Garden\nAdriana Walker\n\n\n \nDude Chill 20″ x 30″\nConnie Townsend\n\n\n \nSunrise 60″ x 60″\nRobert Charon\n\n\n \nRed Postman Butterfly\n10″ x 8″\nTrevor Mikula\n\n\n \nHerd Thru the Vine 36″ x 36″\nTrevor Mikula\n\n\n \nCoastal Bliss 16″ x 55″\nSherri Belassen\n\n\n \nSweet Heart 24″ x 30″\nCathy Carey\n\n\n \nDancing Yellow 36″ x 48″\nRon Russon\n\n\n \n3 Buffalo 18″ x 24″\nRon Russon\n\n \nPup 14″ x 11″\nLance Green\n\n \nExcavation II 20″ x 20″\nDebora Stewart\n\n\n \nUntitled 60″ x 78″\nAlbert Scharf\n\n\n \nFractured Nature 36″ x 36″\nDebora Stewart\n\n\n \nMy Father’s Mule 36″ x 36″\nMichael Swearngin\n\n\n \nMy Kind of Landscape 30″ x 68″\nPatrick Coffaro\n\n\n \nBlack and White 36″ x 36″\nTrevor Mikula\n\n \nReflect 14″ x 11″\nSara Newton\n\n\n \nDuke 54″ x 42″\nSherri Belassen\n\n\n \nFlow 36″ x 60″\nRyan Hale\n\n\n \nFiery Sunset 36″ x 36″\nJudy Choate\n\n\n \nDrumbeat Necklace\nJoan Robinson\n\n\n \nMaking it Through 36″ x 48″\nRon Russon\n\n \nEthereal 30″ x 30″\nRobert Charon\n\n\n \nFading Sunset 15″ x 30″\nJudy Choate
URL:https://wildemeyer.com/event/new-arrivals-december-2018/
LOCATION:Wilde Meyer Gallery – Scottsdale and Tucson\, Scottsdale\, AZ\, 85251
CATEGORIES:New Arrivals
END:VEVENT
END:VCALENDAR