BEGIN:VCALENDAR
VERSION:2.0
PRODID:-//Wilde Meyer Gallery | Scottsdale &amp; Tucson - ECPv5.14.1//NONSGML v1.0//EN
CALSCALE:GREGORIAN
METHOD:PUBLISH
X-WR-CALNAME:Wilde Meyer Gallery | Scottsdale &amp; Tucson
X-ORIGINAL-URL:https://wildemeyer.com
X-WR-CALDESC:Events for Wilde Meyer Gallery | Scottsdale &amp; Tucson
BEGIN:VTIMEZONE
TZID:America/Phoenix
BEGIN:STANDARD
TZOFFSETFROM:-0700
TZOFFSETTO:-0700
TZNAME:MST
DTSTART:20160101T000000
END:STANDARD
END:VTIMEZONE
BEGIN:VEVENT
DTSTART;VALUE=DATE:20161017
DTEND;VALUE=DATE:20161101
DTSTAMP:20260424T012311
CREATED:20161017T111558Z
LAST-MODIFIED:20161118T123624Z
UID:12659-1476662400-1477958399@wildemeyer.com
SUMMARY:New Arrivals
DESCRIPTION:Wilde Meyer has received fabulous new work by many of our artists. Here are some of them. \n\n\n \nUntitled 48″ x 36″\nAmanda Wilner\n\n\n \nThe Raven Chief 48″ x 36″\nJim Nelson\n\n\n \nYour Blue Shadow 40″ x 30″\nLance Green\n\n\n \n\nPlease call or email for prices and more images.\n\n \nHipsters 36″ x 48″\nSherri Belassen\n\n\n \nHorse Breeze 22.5″ x 27″\nJames Swanson\n\n\n \nSeeks the Raven Chief 48″ x 36″\nJim Nelson\n\n\n \nAlaskan Klee Kai\n6″ x 6″\nTrevor Mikula\n\n\n \nSpace and Thought 48″ x 48″ (diptych)\nRyan Hale\n\n\n \nRoad to Lilly’s Place (notebook series)\n30″ x 40″\nBarbara Gurwitz\n\n \nEvening Guardian Ritual 36″ x 48″\nTimothy Chapman\n\n\n \nKeeps the Flag Woman\n24″ x 24″\nJim Nelson\n\n\n \nReflected View 72″ x 48″\nRyan Hale\n\n\n \nHorse-Pony 2/6 20″ x 20″\nMichael Swearngin\n\n\n \nTwo Times the Fun 20″ x 24″\nSarah Webber
URL:https://wildemeyer.com/event/new-arrivals-early-october-2016/
CATEGORIES:New Arrivals
END:VEVENT
END:VCALENDAR