BEGIN:VCALENDAR
VERSION:2.0
PRODID:-//Wilde Meyer Gallery | Scottsdale &amp; Tucson - ECPv5.14.1//NONSGML v1.0//EN
CALSCALE:GREGORIAN
METHOD:PUBLISH
X-WR-CALNAME:Wilde Meyer Gallery | Scottsdale &amp; Tucson
X-ORIGINAL-URL:https://wildemeyer.com
X-WR-CALDESC:Events for Wilde Meyer Gallery | Scottsdale &amp; Tucson
BEGIN:VTIMEZONE
TZID:America/Phoenix
BEGIN:STANDARD
TZOFFSETFROM:-0700
TZOFFSETTO:-0700
TZNAME:MST
DTSTART:20220101T000000
END:STANDARD
END:VTIMEZONE
BEGIN:VEVENT
DTSTART;TZID=America/Phoenix:20220108T080000
DTEND;TZID=America/Phoenix:20220131T170000
DTSTAMP:20260421T154107
CREATED:20220106T181202Z
LAST-MODIFIED:20220119T204406Z
UID:40497-1641628800-1643648400@wildemeyer.com
SUMMARY:New Arrivals January 2022
DESCRIPTION:
URL:https://wildemeyer.com/event/new-arrivals-january-2022/
END:VEVENT
END:VCALENDAR