BEGIN:VCALENDAR
VERSION:2.0
PRODID:-//Wilde Meyer Gallery | Scottsdale &amp; Tucson - ECPv5.14.1//NONSGML v1.0//EN
CALSCALE:GREGORIAN
METHOD:PUBLISH
X-WR-CALNAME:Wilde Meyer Gallery | Scottsdale &amp; Tucson
X-ORIGINAL-URL:https://wildemeyer.com
X-WR-CALDESC:Events for Wilde Meyer Gallery | Scottsdale &amp; Tucson
BEGIN:VTIMEZONE
TZID:America/Phoenix
BEGIN:STANDARD
TZOFFSETFROM:-0700
TZOFFSETTO:-0700
TZNAME:MST
DTSTART:20180101T000000
END:STANDARD
END:VTIMEZONE
BEGIN:VEVENT
DTSTART;VALUE=DATE:20180704
DTEND;VALUE=DATE:20180801
DTSTAMP:20260423T103512
CREATED:20180701T170506Z
LAST-MODIFIED:20180813T163351Z
UID:22256-1530662400-1533081599@wildemeyer.com
SUMMARY:New Arrivals - July
DESCRIPTION:Exciting New Arrivals – Here are a few of the exceptional new pieces we have received. \n\n\n \nThe Wave 36″ x 60″\nAndrea Peterson\n\n \nBear with Ravens\n6″ x 6″\nSarah Webber\n\n\n \nQuiet Thoughts 48″ x 36″\nMonika Steiner\n\n\n \nJoyful Moment\n10″ x 10″\nAlix Stefan\n\n\n\n \n\nPlease call or email for prices and more images.\n \nGamblin’ Quail 24″ x 30″\nCathy Carey\n\n\n \nPug 10″ x 10″\nTimothy Chapman\n\n\n \nRed Hills 48″ x 48″\nMelissa Johnson\n\n\n \nCarved Bear Fable\n25″ x 3.5″ x 3″\nJill Smith\n\n\n \nZanzibarv\nNecklace & Bracelet\nJoan Robinson\n\n\n \nDesert Sunset 40″ x 60″\nFrances Dodd\n\n\n \nDuality 12″ x 12″\nRyan Hale\n\n\n \nParty Ready 48″ x 60″\nPatrick Coffaro\n\n\n \nLeader of the Herd 16″ x 20″\nBill Colt\n\n\n \nOptical Illusion\n20″ x 13.5″ x 4″\nSue Goldsand\n\n\n \nLimon 20″ x 18″\nTimothy Chapman\n\n\n \nLate Afternoon Light 24″ x 18″\nRyan Hale\n\n\n \nMi Casa es Su Casa 28″ x 32″\nCharles Davison\n\n\n \nNew Mexico Summer 48″ x 36″\nBarbara Gurwitz\n\n\n \nIntuition\nNecklace\nAdriana Walker\n\n\n \nManville Road 48″ x 48″\nMelissa Johnson\n\n\n \nOnward & Upward\n21″ x 12″\nDoug Weigel
URL:https://wildemeyer.com/event/new-arrivals-july/
CATEGORIES:New Arrivals
END:VEVENT
END:VCALENDAR