BEGIN:VCALENDAR
VERSION:2.0
PRODID:-//Wilde Meyer Gallery | Scottsdale &amp; Tucson - ECPv5.14.1//NONSGML v1.0//EN
CALSCALE:GREGORIAN
METHOD:PUBLISH
X-WR-CALNAME:Wilde Meyer Gallery | Scottsdale &amp; Tucson
X-ORIGINAL-URL:https://wildemeyer.com
X-WR-CALDESC:Events for Wilde Meyer Gallery | Scottsdale &amp; Tucson
BEGIN:VTIMEZONE
TZID:America/Phoenix
BEGIN:STANDARD
TZOFFSETFROM:-0700
TZOFFSETTO:-0700
TZNAME:MST
DTSTART:20180101T000000
END:STANDARD
END:VTIMEZONE
BEGIN:VEVENT
DTSTART;VALUE=DATE:20181102
DTEND;VALUE=DATE:20181109
DTSTAMP:20260423T093300
CREATED:20181022T042738Z
LAST-MODIFIED:20181110T023806Z
UID:23849-1541116800-1541721599@wildemeyer.com
SUMMARY:New Arrivals - November
DESCRIPTION:Exciting New Arrivals – Here are a few of the exceptional new pieces we have received. \n\n\n\n \nCoyote Love 36″ x 36″\nCathy Carey\n\n\n \nLet’s Rodeo 16″ x 40″\nBill Colt\n\n\n \nAt Peace 24″ x 72″ x 3″\nStephanie Paige\n\n\n \nSail Away 50″ x 51″\nChristina Ramirez\n\n\n \nIn the Moment 36″ x 36″\nTheresa Paden\n\n\n\n \n\nPlease call or email for prices and more images.\n\n \nCasablanca 36″ x 60″\nSherri Belassen\n\n\n \nAlone with the Moonlight 25.5″ x 21.5″\nCathy Carey\n\n\n \nLiving Deeply 40″ x 30″ x 3″\nStephanie Paige\n\n\n \nSpooky 20″ x 20″\nBill Colt\n\n\n \nSuper Moon 21.5″ x 25.5″\nCathy Carey\n\n\n \nHerd Thru the Vine 36″ x 36″\nTrevor Mikula\n\n\n \nEscape 48″ x 36″ x 3″\nStephanie Paige\n\n\n \nThis Crazy World 21/35\n4″ x 6″ image\nLinda Carter Holman\n\n\n \nWinter 24″ x 48″\nBill Colt\n\n\n \nHarrison and Company\n20″ x 20″\nBill Colt\n\n\n \nDawn’s Early Light 24″ x 48″ x 3″\nStephanie Paige\n\n\n \nEnd of the Century 40″ x 30″\nCathy Carey\n\n\n \nHopi Story 12″ x 12″\nLaurelea Kim\n\n\n \nNight Watch 24″ x 24″\nTheresa Paden\n\n\n \nPears o’ Bees\nbronze and silver\nLaurelea Kim\n\n\n \nCool Coyote\n12″ x 12″\nLaurelea Kim\n\n\n \nMurphy 48″ x 36″\nBill Colt\n\n\n \nCushins Are So Cozy 8″ x 10″\nJudy Feldman\n\n\n \nBrief Pattern Change\n20″ x 16″\nTimothy Chapman\n\n\n \nReaching Out 30″ x 30″\nCathy Carey
URL:https://wildemeyer.com/event/new-arrivals-november-2018/
CATEGORIES:New Arrivals
END:VEVENT
END:VCALENDAR