BEGIN:VCALENDAR
VERSION:2.0
PRODID:-//Wilde Meyer Gallery | Scottsdale &amp; Tucson - ECPv5.14.1//NONSGML v1.0//EN
CALSCALE:GREGORIAN
METHOD:PUBLISH
X-WR-CALNAME:Wilde Meyer Gallery | Scottsdale &amp; Tucson
X-ORIGINAL-URL:https://wildemeyer.com
X-WR-CALDESC:Events for Wilde Meyer Gallery | Scottsdale &amp; Tucson
BEGIN:VTIMEZONE
TZID:America/Phoenix
BEGIN:STANDARD
TZOFFSETFROM:-0700
TZOFFSETTO:-0700
TZNAME:MST
DTSTART:20160101T000000
END:STANDARD
END:VTIMEZONE
BEGIN:VEVENT
DTSTART;VALUE=DATE:20160903
DTEND;VALUE=DATE:20160918
DTSTAMP:20260423T182220
CREATED:20160903T001259Z
LAST-MODIFIED:20160903T051212Z
UID:12307-1472860800-1474156799@wildemeyer.com
SUMMARY:New Arrivals
DESCRIPTION:Please call or email for prices and more images.\n\n \nSweets Surrender 22″ x 22″\nMelinda K. Hall\n\n\n \nKoi 44″ x 24″\nBrenda Bredvik\n\n\n \nFarm Bales 24″ x 36″\nSamantha Buller\n\n\n \nDesert View 48″ x 60″\nRyan Hale\n\n\n \nFlying in a Blue Dream 48″ x 48″\nGreg Dye\n\n\n \nHere’s Looking at You 30″ x 40″\nSamantha Buller
URL:https://wildemeyer.com/event/new-arrivals/
CATEGORIES:New Arrivals
END:VEVENT
END:VCALENDAR