BEGIN:VCALENDAR
VERSION:2.0
PRODID:-//Wilde Meyer Gallery | Scottsdale &amp; Tucson - ECPv5.14.1//NONSGML v1.0//EN
CALSCALE:GREGORIAN
METHOD:PUBLISH
X-WR-CALNAME:Wilde Meyer Gallery | Scottsdale &amp; Tucson
X-ORIGINAL-URL:https://wildemeyer.com
X-WR-CALDESC:Events for Wilde Meyer Gallery | Scottsdale &amp; Tucson
BEGIN:VTIMEZONE
TZID:America/Phoenix
BEGIN:STANDARD
TZOFFSETFROM:-0700
TZOFFSETTO:-0700
TZNAME:MST
DTSTART:20160101T000000
END:STANDARD
END:VTIMEZONE
BEGIN:VEVENT
DTSTART;VALUE=DATE:20161006
DTEND;VALUE=DATE:20161030
DTSTAMP:20260423T221430
CREATED:20160729T185942Z
LAST-MODIFIED:20160804T042841Z
UID:12075-1475712000-1477785599@wildemeyer.com
SUMMARY:Points of View
DESCRIPTION:Wilde Meyer Gallery\, 4142 N. Marshall Way\, Scottsdale\n480-945-2323 | info@wildemeyer.com\n \nOpening Reception: October 6th\, 7:00-9:00 PM\nOpening: October 6th\, 2016\nClosing: October 29th\, 2016 \n\n \nSome art shows the artist’s points of view\, while other works hint at the subject’s perspective. Point of view or perspective can be imagined or presented literally.Thom Ross’s shoot ‘um old west gunmen and horses dance toward us with ballerina grace. Maura Allen’s viewer’s perspective looks up at the cowboy in “Steadfast”\, while Connie Townsend’s “Red” looks menacingly down on the viewer. These and more in “Points of View”. \n\n\n \nThree Horseman 41.5″ x 51.5″\nThom Ross\n\n\n \nMarina Benches \n12.25″ x 15.25″\nSamantha Buller\n\n\n \nSteadfast\n12″ x 10″\nMaura Allen\n\n\n \nLeap of Faith 24″ x 24″\nSarah Webber\n\n\n \nO B Joyful 12″ x 24″\nSarah Webber\n\n\n\n \n\nPlease call or email for prices and more images.\n\n \nThrough the Reeds 24″ x 36″\nRobert Charon\n\n\n \nGung Ho 9.5″ x 16.75″\nDana Hooper\n\n\n \nSancho Lane\, Taos NM\n15″ x 18″\nJeff Cochran\n\n\n \nReaching Out 40″ x 60″\nFrances Dodd\n\n\n \nGet the Point\n5″ x 7″\nPatrick Coffaro\n\n\n \nRides the Black  18.25″ x 24.25″\nJim Nelson\n\n\n \nHummer Play \n13.75″ x 10″\nSushe Felix\n\n\n \nCorner 40 ” x 30″\nJaime Ellsworth\n\n\n \nLeucustic and Typical Hornbills\n(with Zebra)\n18″ x 24″\nTimothy Chapman
URL:https://wildemeyer.com/event/points-of-view/
CATEGORIES:Scottsdale Gallery
END:VEVENT
END:VCALENDAR