BEGIN:VCALENDAR
VERSION:2.0
PRODID:-//Wilde Meyer Gallery | Scottsdale &amp; Tucson - ECPv5.14.1//NONSGML v1.0//EN
CALSCALE:GREGORIAN
METHOD:PUBLISH
X-WR-CALNAME:Wilde Meyer Gallery | Scottsdale &amp; Tucson
X-ORIGINAL-URL:https://wildemeyer.com
X-WR-CALDESC:Events for Wilde Meyer Gallery | Scottsdale &amp; Tucson
BEGIN:VTIMEZONE
TZID:America/Phoenix
BEGIN:STANDARD
TZOFFSETFROM:-0700
TZOFFSETTO:-0700
TZNAME:MST
DTSTART:20160101T000000
END:STANDARD
END:VTIMEZONE
BEGIN:VEVENT
DTSTART;VALUE=DATE:20160303
DTEND;VALUE=DATE:20160403
DTSTAMP:20260423T200524
CREATED:20160122T073158Z
LAST-MODIFIED:20160223T114439Z
UID:10377-1456963200-1459641599@wildemeyer.com
SUMMARY:Prime Time
DESCRIPTION:Wilde Meyer Gallery\, 3001 E Skyline Dr\, Tucson\n520-615-5222 | info@wildemeyer.com \nOpening Reception: March 3rd\, 2016\, 5 – 7 PM\nOpening: March 3rd\, 2016\nClosing: April 2\, 2016 \n\nThe month of March is one of Southern Arizona’s most appealing months\, showcasing great weather\, scenery\, wildlife\, and at Wilde Meyer Gallery really good art. Featured in “Prime Time” will be a group of artists including Sushe Felix\, Tom Ross\, Michael Swearngin and many others. \n\n\n \nMoon Phase 49″ x 28″\nRyan Hale\n\n\n \nLooking Up 10 ” x 10″\nPatricia Hunter\n\n\n \nMoon Rising 24″ x 30″\nBarbara Gurwitz\n\n\n \nApex 16″ x 16″ x 4″\nLisa M. Gordon\n\n\n \nChiaroscuro Cowboy I 48″ x 48″\nMichael Swearngin\n\n\n \nMares and Clouds 18″ x 24″\nChaille Trevor
URL:https://wildemeyer.com/event/prime-time/
CATEGORIES:Tucson
END:VEVENT
END:VCALENDAR