BEGIN:VCALENDAR
VERSION:2.0
PRODID:-//Wilde Meyer Gallery | Scottsdale &amp; Tucson - ECPv5.14.1//NONSGML v1.0//EN
CALSCALE:GREGORIAN
METHOD:PUBLISH
X-WR-CALNAME:Wilde Meyer Gallery | Scottsdale &amp; Tucson
X-ORIGINAL-URL:https://wildemeyer.com
X-WR-CALDESC:Events for Wilde Meyer Gallery | Scottsdale &amp; Tucson
BEGIN:VTIMEZONE
TZID:America/Phoenix
BEGIN:STANDARD
TZOFFSETFROM:-0700
TZOFFSETTO:-0700
TZNAME:MST
DTSTART:20170101T000000
END:STANDARD
END:VTIMEZONE
BEGIN:VEVENT
DTSTART;VALUE=DATE:20170907
DTEND;VALUE=DATE:20171001
DTSTAMP:20260420T182458
CREATED:20170717T230441Z
LAST-MODIFIED:20170911T194554Z
UID:17076-1504742400-1506815999@wildemeyer.com
SUMMARY:Realitivity?  Is Real Relative?
DESCRIPTION:Wilde Meyer Gallery\, 4142 N. Marshall Way\, Scottsdale\n480-945-2323 | info@wildemeyer.com \n \nOpening Reception: September 7th\, 7:00 – 9:00 PM\nOpening: September 7th\, 2017\nClosing: September 30th\, 2017 \n  \n\nA group show of WILDE MEYER artists\, including Sheridan Brown\, Samantha Buller\, Patrick Coffaro\, and more. \n\n\n \nElvis Kicks on ’66 48″ x 58″\nStephen Morath\n\n\n \nRealitivity 5″ x 4″\nSheridan Brown\n\n\n \nTaking the Off Ramp 5″ x 7″\nPatrick Coffaro\n\n\n \nJumping Jack 36″ x 48″\nKristin Knight\n\n\n \n\nPlease call or email for prices and more images.\n\n \nOff the Grid 24″ x 48″\nBill Colt\n\n\n \nLet’s Go Someplace\n7″ x 5″\nPatrick Coffaro\n\n\n \nSlap Happy 40″ x 30″\nSamantha Buller\n\n\n \nWestern Horizon 7″ x 16″\nMaura Allen\n\n\n \nHead Over Hills 36″ x 36″\nLance Green\n\n\n \nSortie 24″ x 48″\nBill Colt
URL:https://wildemeyer.com/event/realitivity-real-relative/
CATEGORIES:Scottsdale Gallery
END:VEVENT
END:VCALENDAR