BEGIN:VCALENDAR
VERSION:2.0
PRODID:-//Wilde Meyer Gallery | Scottsdale &amp; Tucson - ECPv5.14.1//NONSGML v1.0//EN
CALSCALE:GREGORIAN
METHOD:PUBLISH
X-WR-CALNAME:Wilde Meyer Gallery | Scottsdale &amp; Tucson
X-ORIGINAL-URL:https://wildemeyer.com
X-WR-CALDESC:Events for Wilde Meyer Gallery | Scottsdale &amp; Tucson
BEGIN:VTIMEZONE
TZID:America/Phoenix
BEGIN:STANDARD
TZOFFSETFROM:-0700
TZOFFSETTO:-0700
TZNAME:MST
DTSTART:20170101T000000
END:STANDARD
END:VTIMEZONE
BEGIN:VEVENT
DTSTART;VALUE=DATE:20170803
DTEND;VALUE=DATE:20170901
DTSTAMP:20260420T151327
CREATED:20170530T011857Z
LAST-MODIFIED:20170814T173657Z
UID:16507-1501718400-1504223999@wildemeyer.com
SUMMARY:Summer Bright
DESCRIPTION:Wilde Meyer Gallery\, 4142 N. Marshall Way\, Scottsdale\n480-945-2323 | info@wildemeyer.com \n \nOpening Reception: August 3rd\, 7:00 – 9:00 PM\nOpening: August 3rd\, 2017\nClosing: September 2nd\, 2017 \n  \n\nA group show with an emphasis on hues and tonal effects used by artists. Some artists present art full of contrasts of light against dark\, as shown in works by Ryan Hale and AM Stockhill. Artists like Peggy Judy and Stephen Morath create a more subtle mood by use of tonal effects of with low contrast. Still other artists like Brenda Bredvik and Sara Newton create a “bright” mood with splendid use of poly colors on ordinary subjects\, like horses\, cowboys or abstracts. From vivid to monochromatic\, glowing light rays of sun to almost somberness of dusk\, this show presents a great variety of effects. \n\n\n \nNew Places 48″ x 58″\nLawrence Taylor\n\n\n \nDance 1 48″ x 34″\nMonika Rossa\n\n\n \n Of the Void 60″ x 48″\nRyan Hale\n\n\n\n \n\nPlease call or email for prices and more images.\n\n \nLast Dance of the Day 30″ x 24″\nCathy Carey\n\n\n \nSpring 16″ x 20\nPeggy McGivern\n\n\n \nSonoita  50″ x 70″\nJack Roberts\n\n\n \nMorning Dew and Quiet 30″ x 30″\nLisa Mann\n\n\n  \nEvening 40″ x 30″\nSara Newton\n\n\n \nRed Paths 32.5′” x 24.5″\nJim Nelson\n\n\n \nMoose 8″ x 8″\nPeggy Judy\n\n\n \nEarly Mornings 35″ x 59″\nAM Stockhill\n\n\n \nCool Afternoon 40″ x 30″\nBrenda Bredvik\n\n\n \nSunlit Canyon 29.5″ X 35.5″\nSushe Felix\n\n\n \nPlum Cliffs Canyon 48″ x 48″\nJudy Choate\n\n\n \nReach 48″ x 60″\nPeggy Judy\n\n\n \nMountain View 38″ x 40″\nJeff Cochran
URL:https://wildemeyer.com/event/summer-bright/
CATEGORIES:Scottsdale Gallery
END:VEVENT
END:VCALENDAR