BEGIN:VCALENDAR
VERSION:2.0
PRODID:-//Wilde Meyer Gallery | Scottsdale &amp; Tucson - ECPv5.14.1//NONSGML v1.0//EN
CALSCALE:GREGORIAN
METHOD:PUBLISH
X-WR-CALNAME:Wilde Meyer Gallery | Scottsdale &amp; Tucson
X-ORIGINAL-URL:https://wildemeyer.com
X-WR-CALDESC:Events for Wilde Meyer Gallery | Scottsdale &amp; Tucson
BEGIN:VTIMEZONE
TZID:America/Phoenix
BEGIN:STANDARD
TZOFFSETFROM:-0700
TZOFFSETTO:-0700
TZNAME:MST
DTSTART:20170101T000000
END:STANDARD
END:VTIMEZONE
BEGIN:VEVENT
DTSTART;VALUE=DATE:20170706
DTEND;VALUE=DATE:20170707
DTSTAMP:20260420T115341
CREATED:20170528T221456Z
LAST-MODIFIED:20170531T145140Z
UID:16470-1499299200-1499331600@wildemeyer.com
SUMMARY:Summer Group Show
DESCRIPTION:Reception: July 6th\, 7:00 – 9:00 PM \nOpening: July 6th\, 2017\nClosing: July 29th\, 2017 \nWILDE MEYER GALLERY will be showing a mixed media group show of work by gallery artists.  Included are:  Debora Stewart\, Sara Newton\, Patrick Coffaro\, Peggy Judy and more. \nWilde Meyer Gallery\, 4142 N. Marshall Way\, Scottsdale\, AZ. Gallery Hours: Monday-Friday\, 10:00 to 5:30 p.m.\, Saturday 10:00 a.m. to 6:00 p.m. Open for ArtWalk every Thursday 7 p.m. to 9 p.m.  info@wildemeyer.com\, www.wildemeyer.com  480-945-2323. \n\n\n \nTrio 19.25″ x 27.25″\nSarah Webber\n\n\n \nThe Wisdom Hunter 48″ x 36″\nJim Nelson\n\n\n \nTurquoise Rhapsody 54″ x 48″\nDeborah Stewart\n\n\n \nFrida II 6″ x 4″\nTrevor Mikula\n\n\n\n \n\nPlease call or email for prices and more images.\n\n \nSnow on Mt Lemmon 48″ x 36″\nAcacia Alder\n\n\n \nMorning Dew\nand Quiet 30″ x 30″\nLisa Mann\n\n\n \nAdobe Church\nwith Red Trees\n 28″ x 28″\nRobert Burt\n\n\n \nAbstract #2\n11″ x 10″\nRobert Anderson\n\n\n \nIdeal Garden\, Perfectly Poised\n 12″ x 12″ each\nPatrick Coffaro\n\n\n \nFade 5 – I\, II\, III\n 48″ x 6″ each\nRobert Charon\n\n\n \nWader\n 24″ x 18″\nLance Green\n\n\n \nYucca\n 56″ x 30″\nBrenda Bredvik\n\n\n \nButterfly Migration\n(with Cactus)\n 48″ x 36″\nTimothy Chapman\n\n\n \nDesert\, Moon\nand Stars 38″ x 28″\nFran Larsen\n\n\n \nRunaway Day\n 30″ x 30″\nCathy Carey\n\n\n \nAncient Memory 48″ x 60″\nSara Newton
URL:https://wildemeyer.com/event/summer-group-show/
CATEGORIES:Scottsdale Gallery
END:VEVENT
END:VCALENDAR