BEGIN:VCALENDAR
VERSION:2.0
PRODID:-//Wilde Meyer Gallery | Scottsdale &amp; Tucson - ECPv5.14.1//NONSGML v1.0//EN
CALSCALE:GREGORIAN
METHOD:PUBLISH
X-WR-CALNAME:Wilde Meyer Gallery | Scottsdale &amp; Tucson
X-ORIGINAL-URL:https://wildemeyer.com
X-WR-CALDESC:Events for Wilde Meyer Gallery | Scottsdale &amp; Tucson
BEGIN:VTIMEZONE
TZID:America/Phoenix
BEGIN:STANDARD
TZOFFSETFROM:-0700
TZOFFSETTO:-0700
TZNAME:MST
DTSTART:20230101T000000
END:STANDARD
END:VTIMEZONE
BEGIN:VEVENT
DTSTART;TZID=America/Phoenix:20230103T080000
DTEND;TZID=America/Phoenix:20230123T170000
DTSTAMP:20260421T095528
CREATED:20221025T190325Z
LAST-MODIFIED:20230124T191553Z
UID:44180-1672732800-1674493200@wildemeyer.com
SUMMARY:Superb Southwest
DESCRIPTION:
URL:https://wildemeyer.com/event/superb-southwest/
CATEGORIES:Tucson
END:VEVENT
END:VCALENDAR