BEGIN:VCALENDAR
VERSION:2.0
PRODID:-//Wilde Meyer Gallery | Scottsdale &amp; Tucson - ECPv5.14.1//NONSGML v1.0//EN
CALSCALE:GREGORIAN
METHOD:PUBLISH
X-WR-CALNAME:Wilde Meyer Gallery | Scottsdale &amp; Tucson
X-ORIGINAL-URL:https://wildemeyer.com
X-WR-CALDESC:Events for Wilde Meyer Gallery | Scottsdale &amp; Tucson
BEGIN:VTIMEZONE
TZID:America/Phoenix
BEGIN:STANDARD
TZOFFSETFROM:-0700
TZOFFSETTO:-0700
TZNAME:MST
DTSTART:20160101T000000
END:STANDARD
END:VTIMEZONE
BEGIN:VEVENT
DTSTART;VALUE=DATE:20160602
DTEND;VALUE=DATE:20160703
DTSTAMP:20260420T081724
CREATED:20160425T015850Z
LAST-MODIFIED:20170706T064728Z
UID:11316-1464825600-1467503999@wildemeyer.com
SUMMARY:WILDE MEYER’s 4th Annual 100 or $100 Show
DESCRIPTION:Wilde Meyer Gallery\, 4142 N. Marshall Way\, Scottsdale\n480-945-2323 | info@wildemeyer.com \nOpening Reception: June 2nd\, 7:00-9:00 PM\nOpening: June 2nd\, 2016\nClosing: July 2nd\, 2016 \nSee below for instructions and all the art \n\n\n \nOrzetyn 8″ x 10″\nChaille Trevor\n\n\n \nMe + You IV 4″ x 4″\nSherri Belassen\n\n\n \nMe + You I 4″ x 4″\nSherri Belassen\n\n\n \n(cowboy) 4″ x 4″\nRyan Hale\n\n \nSummer Fun 8″ x 10″\nChaille Trevor\n\n\n \nMe + You II 4″ x 4″\nSherri Belassen\n\n\n \nMe + You III 4″ x 4″\nSherri Belassen\n\n\n \nGuiding Spirits\n11.25″ x 9.25″\nCharles Davison\n\n\n  \nThese are just a few of the wonderful pieces available. \n  \nOpening reception will begin at 7:00 PM\, Thursday\, June 2. You need NOT be in the gallery to choose your favorite pieces. You may call\, email\, or put your name on a piece in person beginning June 2nd. If there is more than one buyer for a piece\, the winning buyer will be drawn Friday June 3 via lottery. There is a limit of one bid per piece\, per household. If you email your entries\, we will send you a follow-up email letting you know they were received (no need to call and ask if we received them). Please be sure to include the item number\, title and artist’s name for each piece for which you are placing an entry. \n  \n \n  \nBuyers will be notified of their successful purchases ASAP. It may take a few days to determine all results and get back with clients – please be patient\, we will notify you once all results are compiled. We have many bids on most items and it may take a few days to tally the results and get back with everyone. \nPlease keep in mind that if you put your name on several pieces\, you could possibly win them all. So\, please do not put your name on more than you are prepared to purchase. This is a charity event\, and we will need payment as soon as you are notified that you have won the piece or pieces. \nWhen choosing through telephone or email\, please include your zip code for a shipping quote if you live out of town. \nHave fun and win a lot.
URL:https://wildemeyer.com/event/the-100-show/
CATEGORIES:Scottsdale Gallery
END:VEVENT
END:VCALENDAR