BEGIN:VCALENDAR
VERSION:2.0
PRODID:-//Wilde Meyer Gallery | Scottsdale &amp; Tucson - ECPv5.14.1//NONSGML v1.0//EN
CALSCALE:GREGORIAN
METHOD:PUBLISH
X-WR-CALNAME:Wilde Meyer Gallery | Scottsdale &amp; Tucson
X-ORIGINAL-URL:https://wildemeyer.com
X-WR-CALDESC:Events for Wilde Meyer Gallery | Scottsdale &amp; Tucson
BEGIN:VTIMEZONE
TZID:America/Phoenix
BEGIN:STANDARD
TZOFFSETFROM:-0700
TZOFFSETTO:-0700
TZNAME:MST
DTSTART:20160101T000000
END:STANDARD
END:VTIMEZONE
BEGIN:VEVENT
DTSTART;VALUE=DATE:20161103
DTEND;VALUE=DATE:20161127
DTSTAMP:20260424T091738
CREATED:20160922T045107Z
LAST-MODIFIED:20161031T231440Z
UID:12269-1478131200-1480204799@wildemeyer.com
SUMMARY:The Source: A One Woman Show for Linda Carter Holman
DESCRIPTION:Important Notice\nDue to unforeseen circumstances\, neither Linda Carter Holman nor her art will be at the Gallery as planned for her opening November 3rd. \n \nWilde Meyer Gallery\, 4142 N. Marshall Way\, Scottsdale\n480-945-2323 | info@wildemeyer.com\n \nOpening Reception: November 3rd\, 7:00-9:00 PM\nOpening: November 3rd\, 2016\nClosing: November 26th\, 2016\n  \n\nThe Source – That spot where creation springs fourth; where a seed is planted and brought to life. This highly anticipated show will feature the works of Linda Carter Holman\, who brings a vibrantly rich world to life. In Carter Holman’s art\, the viewer senses an excitement for life where a simple act or seemingly mundane task and makes it interesting. A cow grazing\, a squirrel gathering nuts\, or a beautiful young woman reading a book\, coalesce in a scene to evoke special feelings\, bringing new meaning to these actions. Lush and beautiful and full of vivid detail\, Carter Holman’s works are not only aesthetically pleasing\, but they also challenge the viewer by creating new perspective on life.\n  \n\nAll of the work is available and for sale\nPlease contact us to inquire or purchase any of the work. \n\n \nDear One 52″ x 40″\nLinda Carter Holman\n$12\,500\n\n\n \nFlowering in Solitude\n20″ x 20″\nLinda Carter Holman\n$5\,200 (unframed)\n\n\n \nPassing Over 40″ x 40″\nLinda Carter Holman\n$10\,500\n\n\n\n \n\n\n \nWhere Little Fishes Fly\n20″ x 20″\nLinda Carter Holman\n$5\,200\n\n\n \nLighting the Way 40″ x 52″\nLinda Carter Holman\n$12\,500\n\n\n \nOn the Pollen Trail 20″ x 24″\nLinda Carter Holman\n$6\,200\n\n\n \nOnce Upon a Garden 52″ x 40″\nLinda Carter Holman\n$12\,500\n\n\n \nOn the Edge 20″ x 20″\nLinda Carter Holman\n$5\,200\n\n\n \nThe Source\n36″ x 30″\nLinda Carter Holman\n$9\,500\n\n\n \nWith a Kiss 36″ x 30″\nLinda Carter Holman\n$9\,500\n\n\n \nEvocation to Life 40″ x 40″\nLinda Carter Holman\n$10\,500\n\n\n \nA Quiet Spot 54″ x 40″\nLinda Carter Holman\n$12\,500\n\n\n \nInvitation 48″ x 72″\nLinda Carter Holman\n$18\,450\n\n\n \nN’ Shrine 40″ x 28″\nLinda Carter Holman\n$7\,200
URL:https://wildemeyer.com/event/the-source/
CATEGORIES:Scottsdale Gallery
END:VEVENT
END:VCALENDAR