BEGIN:VCALENDAR
VERSION:2.0
PRODID:-//Wilde Meyer Gallery | Scottsdale &amp; Tucson - ECPv5.14.1//NONSGML v1.0//EN
CALSCALE:GREGORIAN
METHOD:PUBLISH
X-WR-CALNAME:Wilde Meyer Gallery | Scottsdale &amp; Tucson
X-ORIGINAL-URL:https://wildemeyer.com
X-WR-CALDESC:Events for Wilde Meyer Gallery | Scottsdale &amp; Tucson
BEGIN:VTIMEZONE
TZID:America/Phoenix
BEGIN:STANDARD
TZOFFSETFROM:-0700
TZOFFSETTO:-0700
TZNAME:MST
DTSTART:20160101T000000
END:STANDARD
END:VTIMEZONE
BEGIN:VEVENT
DTSTART;VALUE=DATE:20160301
DTEND;VALUE=DATE:20160403
DTSTAMP:20260423T233816
CREATED:20160101T210810Z
LAST-MODIFIED:20160301T135741Z
UID:10418-1456790400-1459641599@wildemeyer.com
SUMMARY:Tradition\, Imagination\, and Out There – Contrasts in Styles
DESCRIPTION:Wilde Meyer Gallery\, 4142 N. Marshall Way\, Scottsdale\n480-945-2323 | info@wildemeyer.com\n \nOpening Reception: March 3rd\, 2016\, 7:00-9:00 PM\nOpening: March 3rd\, 2016\nClosing: April 2nd\, 2016 \n\n \nJaime Ellsworth\, Ryan Hale\, and Sarah Webber all bring different concepts in painting to this show. Webber’s paintings are rooted in a traditional painting style\, while Ellsworth places her fanciful subjects in imaginary places. Ryan Hale’s work is mostly conceptual\, inviting the viewer to reach conclusions on their own when viewing his work. \n\n\n \nThe Upper Plateau 72″ x 48″\nRyan Hale\n\n\n \nBiscuit and Tea 24″ x 30″\nJaime Ellsworth\n\n\n \nJenny\, John and Joleen 36″ x 36″\nSarah Webber\n\n\n\n \n\nPlease call or email for prices and more images.\n\n \nWhite Dog Red Wine 30″ x 40″\nJaime Ellsworth\n\n\n \nJust Passing By 48″ x 48″\nSarah Webber\n\n\n \nWaves 36″ x 36″\nRyan Hale\n\n\n \nIn This Place 48″ x 48″\nRyan Hale\n\n\n \nEarthbound 60″ x 48″\nRyan Hale\n\n\n \nBalance 40″ x 30″\nJaime Ellsworth\n\n\n \nPearls\n30″ x 40″\nJaime Ellsworth\n\n\n \nLeaping Bunny Sketch\n24″ x 24″\nSarah Webber\n\n\n \nStep Aside 36″ x 60″\nSarah Webber\n\n\n \nJose’s Big Adventure\n12.5″ x 14.5″\nSarah Webber\n\n\n \nThe Building Earth 72″ x 60″\nRyan Hale\n\n\n \nMoonrise 30″ x 30″\nJaime Ellsworth\n\n\n \nDesert Mirage 48″ x 48″\nRyan Hale\n\n\n \nGreen Rabbit 40″ x 30″\nJaime Ellsworth\n\n\n \nPortrait of Minnie Pearl\n14″ x 11″\nSarah Webber\n\n\n \nFour on the Fence 24″ x 36″\nSarah Webber
URL:https://wildemeyer.com/event/tradition-imagination-and-out-there-contrasts-in-styles/
CATEGORIES:Scottsdale Gallery
END:VEVENT
END:VCALENDAR