BEGIN:VCALENDAR
VERSION:2.0
PRODID:-//Wilde Meyer Gallery | Scottsdale &amp; Tucson - ECPv5.14.1//NONSGML v1.0//EN
CALSCALE:GREGORIAN
METHOD:PUBLISH
X-WR-CALNAME:Wilde Meyer Gallery | Scottsdale &amp; Tucson
X-ORIGINAL-URL:https://wildemeyer.com
X-WR-CALDESC:Events for Wilde Meyer Gallery | Scottsdale &amp; Tucson
BEGIN:VTIMEZONE
TZID:America/Phoenix
BEGIN:STANDARD
TZOFFSETFROM:-0700
TZOFFSETTO:-0700
TZNAME:MST
DTSTART:20160101T000000
END:STANDARD
END:VTIMEZONE
BEGIN:VEVENT
DTSTART;VALUE=DATE:20160114
DTEND;VALUE=DATE:20160213
DTSTAMP:20260424T012023
CREATED:20160110T083627Z
LAST-MODIFIED:20160118T162955Z
UID:10342-1452729600-1455321599@wildemeyer.com
SUMMARY:Treasures
DESCRIPTION:Wilde Meyer Gallery\, 3001 E Skyline Dr\, Tucson\n520-615-5222 | info@wildemeyer.com \nOpening Reception: January 7th\, 2016\, 5 – 7 PM\nOpening: January 14\, 2016\nClosing: February 12\, 2016 \n\nWilde Meyer artists will be presenting their best small works for Wilde Meyer’s annual small works show. Come discover your own treasure. Many of Wilde Meyer’s artists will be participating. Artists to be shown include Trevor Mikula\, Fran Larsen\, Lisa Gordon\, Sherri Belassen\, Ryan Hale\, Tom Philabaum\, and many more. \n\n\n\n\n \nSacred Heart Buring Blue\nRachel Slick\n\n\n \nHoliday Nap 12″ x 12″\nJudy Feldman\n\n\n \nAwake 8″ x 8″\nMelissa Johnson\n\n\n \nGhost Cowboy\n4″ x 4″\nRyan Hale\n\n\n \nCuriosity 6″ x 6″\nSheridan Brown\n\n\n \nRio Grande at Pilar 8″ x 10″\nBarbara Gurwitz\n\n\n \nOrange & Blue 8″ x 8″\nSheridan Brown\n\n\n \nOrange Cat ring box\nKathryn Blackmun\n\n\n \nPretty Spectacular\n5″ x 7″\nPatrick Coffaro\n\n\n \nPuppy with Butterfly\n5.5″ x 5″ x 9″\nBarbara Duzan\n\n\n \nEl Charo Café 9″ x 12″\nRoger Alderman\n\n\n \nLazy Days 12″ x 16″ x 11″\nJim Budish\n\n\n \nAbiqui Winter 10″ x 10″\nSheridan Brown\n\n\n \nIsn’t It Time\n5″ x 7″\nPatrick Coffaro\n\n\n \nThe Next Big Thing\n5″ x 7″\nPatrick Coffaro\n\n\n \nWide Valley 6″ x 12″\nBarbara Gurwitz\n\n\n \nGhost Sherrif\n4″ x 4″\nRyan Hale\n\n\n \nMouse\nAlan Potter\n\n\n \nCat Nap 9″ x 12″\nJudy Feldman\n\n\n \nSterling silver Horse Earrings\n\n\n\n \n\n\n \nStewie 12″ x 12″\nTrevor Mikula\n\n\n \nChauncey 21″ x 5″ x 8″\nJim Budish\n\n\n \nAwesome 10″ x 10″\nPatricia Hunter\n\n\n \nDesert  8″ x 8″\nKaren Bezuidenhout\n\n\n \nBigger is Better\n7″ x 5″\nPatrick Coffaro\n\n\n \nHappy Trails to You \n12.25″ x 10.25″\nSarah Webber\n\n\n \nPygmy Owl\n6″ x 4.5″ x 5″\nBarbara Duzan\n\n\n \nWetlands at Dusk\n4″ x 4″\nSamantha Buller\n\n\n \nBig House 9″ x 12″\nCharles Davison\n\n\n \nWall Raven II 7.5″ x 12″ x 1″\nMichelle MacKenzie\n\n\n \nPegasus\nAdriana Walker\n\n\n \nDog Years  6″ x 12″\nJaime Ellsworth\n\n\n \nDesert Sunscape 13.5″ x 13.5″\nFran Larsen\n\n\n \nAbby 14″ x 12″ x 6″\nJim Budish\n\n\n \nDorrie14″ x 11″\nBill Colt\n\n\n \nIndian Pony\nAdriana Walker\n\n\n \nCopper Rhapsody\nAdriana Walker\n\n\n\n \nOn High\n12″ x 9″\nLinda Carter Holman\n\n\n \nCow in Room 8″ x 8″\nRyan Hale\n\n\n \nGreen Left Foot 16″ x 20″\nRon Russon\n\n\n \nCat with Pink Daisy Bowl\nKathryn Blackmun\n\n\n \nRam 3″ x 3″\nLisa M. Gordon\n\n\n \nUntitled Abstract 12″ x 12″\nDebora Stewart\n\n\n \nPrairie Dog\n3.5″ x 2.5″\nLisa M. Gordon\n\n\n \nPourquoi 12″ x 15″\nDana Hooper\n\n\n \nIn a Fuzi Dream\n4.5″ x 4.5″\nLinda Carter Holman\n\n\n \nThe Yearling\n6.25″ x 6.25″\nJim Nelson\n\n\n \nA Christmas Tale 4″ x 5.5″\nLinda Carter Holman\n\n\n \nGreen Piggly I\n5″ x 4″ x 5″\nKari Rives\n\n\n \nThree Spirits 8″ x 8″\nCharles Davison\n\n\n \nTeeny Woof Dog Bowl\nKathryn Blackmun\n\n\n \nDistraction 6″ x 12″\nJaime Ellsworth\n\n\n \nIce Blue Horse\nMichelle MacKenzie\n\n\n \nBuffalo Storm 12″ x 12″\nLance Green\n\n\n \nPig 6″ x 6″\nTrevor Mikula\n\n\n \nBloomin’ Joy 12.5″ x 11″\nSushe Felix\n\n\n \nRelic Horse 2\nMichelle MacKenzie\n\n\n \nPaper Boats 12 ” x 9″\nAna Marini-Genzon\n\n\n \nBitty Bunny in the Grass\n6″ x 6″\nSarah Webber\n\n\n \nSunlit Bison 16″ x 20″\nRon Russon\n\n\n \nDaisy 6″ x 6″\nAndrea Peterson\n\n\n \nGrace 13″ x 17″ x 5″\nMichelle MacKenzie\n\n\n \nInto the Green Night\n8″ x 8″\nCharles Davison\n\n\n \nScotty with Red Background\nKathryn Blackmun\n\n\n \nPerfume Bottle\n4.5″ x 3″ x 3″\nTom Philabaum\n\n\n \nHomeless (study)\n10″ x 8″\nStephano\n\n\n \nHappy Puppy \n6.5″ x 8″ x 9″\nBarbara Duzan\n\n\n \nPriscilla and Child 11″ x 14″\nJudy Feldman\n\n\n \nPrized 8″ x 8″\nMelissa Johnson\n\n\n \nRed Bison Ornament\nKathryn Blackmun\n\n\n \nCubby 12″ x 12″\nAndrea Peterson\n\n\n \nIn Sight 7″ x 5″\nChaille Trevor\n\n\n \nSunset Moon 10.75 ” x 13″\nSushe Felix\n\n\n \nNew Morning Barn\n7″ x 5″\nSamantha Buller\n\n\n \nSetting Sun 11.5″ x 13.5″\nRoger Alderman\n\n\n \nFred the Turtle\n6.5″ x 9″ x 5″\nKari Rives\n\n\n \nHigh Dive II 12″ x 12″\nSherri Belassen\n\n\n \nRight at Home \n5″ x 7″\nPatrick Coffaro\n\n\n \nChester 14″ x 11″\nBill Colt\n\n\n \nBunching 5″ x 7″\nPatrick Coffaro\n\n\n \nOrange & Blue 14″ x 14″\nSara Newton\n\n\n \nOnward #1 8″ x 10″\nSuzanne Betz\n\n\n \nComing Together\n5″ x 7″\nPatrick Coffaro\n\n\n \nSeriously 12 ” x 12″\nPatricia Hunter\n\n\n \nOnward #2 8″ x 10″\nSuzanne Betz\n\n\n \nShe’s a Lady 12″ x 12″\nTrevor Mikula\n\n\n \nFemale Rhizome\n6.5″ x 6″ x 5″\nRand Smith\n\n\n \nSea Haven 6″ x 6″\nAndrea Peterson\n\n\n \nGordie 14″ x 11″\nBill Colt\n\n\n \nDeer Dancer I\n8″ x 5″ x 4.75″\nKa Fisher\n\n\n \nOcre Landscape 13.5″ x 13.5″\nSara Newton\n\n\n \nFree Spirits I\n7″ x 5″\nChaille Trevor\n\n\n \nSnow Day 6″ x 6″\nAndrea Peterson\n\n\n \nUp the Road to Stars 13.5″ x 13.5″\nFran Larsen\n\n\n \nFriendly Feral 10″ x 10″\nPatricia Hunter\n\n\n \nA Good Friend\n10″ x 8″\nChaille Trevor\n\n\n \nPretty in Pink  12″ x 12″\nTrevor Mikula\n\n\n \nMeeting 6″ x 12″\nJaime Ellsworth\n\n\n \nFind 6″ x 12″\nJaime Ellsworth\n\n\n \nPlay 12″ x 6″\nJaime Ellsworth\n\n\n \nBasset 13″ x 10″\nSara Newton\n\n\n \nBasking in the Warmth 10″ x 10″\nSamantha Buller\n\n\n \nBruno Waiting 14″ x 11″\nJudy Feldman\n\n\n \nThe Clean Up Crew\n6″ x 6″\nSheridan Brown\n\n\n \nPetroglyph Circle 14.5″ diameter\nDoug Weigel\n\n\n \nSophisticational Floral 12″ x 12″\nTrevor Mikula\n\n\n \nAs the Stars Appear\, Night  13.5″ x 13.5″\nFran Larsen\n\n\n \nJose’s Big Adventure  12.5″ x 14.5″\nSarah Webber\n\n\n \nWar Horse I 7″ x 7″ x 3″\nKa Fisher\n\n\n \nHoney Moon’s Bench 10″ x 10″\nSamantha Buller\n\n\n \nPeak Season 5″ x 7″\nPatrick Coffaro\n\n\n \nPug’s Life 12″ x 12″\nTrevor Mikula\n\n\n \nLab 13″ x 10″\nSara Newton\n\n\n \nAn Old Soul\n10″ x 8″\nChaille Trevor\n\n\n \nFree Spirits II \n7″ x 5″\nChaille Trevor\n\n\n \nLex 14″ x 11″\nBill Colt\n\n\n \nFree Spirits III 11″ x 9″\nChaille Trevor\n\n\n \nAshley 12.5″ x 10.5″\nSara Newton
URL:https://wildemeyer.com/event/treasures-tucson-2016/
CATEGORIES:Tucson
END:VEVENT
END:VCALENDAR